BEGIN:VCALENDAR
PRODID:-//Mountaineers.org//ICalendar Support
VERSION:2.0
METHOD:PUBLISH
BEGIN:VEVENT
DTSTAMP:20260420T183151Z
CREATED:20250812T210358Z
UID:ATEvent-c3fd79497efe40c890677a67b60fb5f4
LAST-MODIFIED:20251119T001152Z
SUMMARY:Seattle Jr. MAC General Meeting - Mountaineers Seattle Program Center
DTSTART:20260422T070000Z
DTEND:20260423T065900Z
DESCRIPTION:Jr. MAC meet once a month at the Seattle Program Center fr
 om 6-8pm
CATEGORIES:youth, Seattle Explorers, Volunteer with Youth, Teens
CLASS:PUBLIC
END:VEVENT
BEGIN:VEVENT
DTSTAMP:20260420T183151Z
CREATED:20250812T210705Z
UID:ATEvent-34fbcb8e87bc43f8bfd414d5bff29e7b
LAST-MODIFIED:20251119T001143Z
SUMMARY:Seattle Explorers General Meeting - Mountaineers Seattle Program Center
DTSTART:20260422T070000Z
DTEND:20260423T065900Z
DESCRIPTION:Explorers meet once a month at the Seattle Program Center 
 from 6-8pm
CATEGORIES:youth, Seattle Explorers, Volunteer with Youth, Teens
CLASS:PUBLIC
END:VEVENT
BEGIN:VEVENT
DTSTAMP:20260420T183151Z
CREATED:20250109T000022Z
UID:ATEvent-aa83594ea2494452b24de48739535f1d
LAST-MODIFIED:20251122T003255Z
SUMMARY:Seattle Explorers & Jr. MAC - General Meeting
DTSTART:20260423T010000Z
DTEND:20260423T030000Z
DESCRIPTION:Seattle Explorer and Jr. MAC Families meet on the 3rd or 4
 th Wednesday of the month. Volunteers\, Staff\, and chaperones present
  a unique or interesting topic to the students for an experiential lea
 rning opportunity.
CATEGORIES:Seattle Branch, Programs & Meetings, Seattle Explorers, Seattle Jr. MAC
CLASS:PUBLIC
END:VEVENT
BEGIN:VEVENT
DTSTAMP:20260420T183151Z
CREATED:20251205T194541Z
UID:ATEvent-00da01c3bdf14f438ce155ef682f90eb
LAST-MODIFIED:20251205T194541Z
SUMMARY:Seattle Jr. MAC Hike - Lake 22
DTSTART:20260425T070000Z
DTEND:20260426T065900Z
DESCRIPTION:Join us for a day of hiking!
CATEGORIES:youth, Seattle Explorers, Volunteer with Youth, Teens
CLASS:PUBLIC
END:VEVENT
BEGIN:VEVENT
DTSTAMP:20260420T183151Z
CREATED:20251016T201257Z
UID:ATEvent-67bec55eb2ec437ab859e9df0470a744
LAST-MODIFIED:20260324T163635Z
SUMMARY:Climbing Skills | Culminating Skills Practice - Mountaineers Seattle Program Center
DTSTART:20260425T070000Z
DTEND:20260426T065900Z
DESCRIPTION:Part 6 of 6. Clubs parents will be practicing all of the s
 kills they have learned in this series.
CATEGORIES:youth, Seattle Explorers, Volunteer with Youth, Seattle Pathfinders
CLASS:PUBLIC
END:VEVENT
BEGIN:VEVENT
DTSTAMP:20260420T183151Z
CREATED:20250128T223935Z
UID:ATEvent-33149c1fe5c34f508393be4f324cfc4c
LAST-MODIFIED:20260109T192436Z
SUMMARY:SEA Youth Clubs Parents Culminaton
DTSTART:20260425T160000Z
DTEND:20260425T220000Z
DESCRIPTION:Putting it all together to check off folks for skill badge
 s.
CATEGORIES:Seattle Branch, Programs & Meetings, Seattle MAC, Seattle Explorers, Seattle Jr. MAC, Seattle Nomads, Seattle Pathfinders
CLASS:PUBLIC
END:VEVENT
BEGIN:VEVENT
DTSTAMP:20260420T183151Z
CREATED:20251205T202520Z
UID:ATEvent-574f61f72b76480dacb81e5dbd6ce09a
LAST-MODIFIED:20251205T202520Z
SUMMARY:Seattle Explorers Hike - Dirty Harry's Peak\, Balcony & East Balcony
DTSTART:20260426T070000Z
DTEND:20260427T065900Z
DESCRIPTION:Join us for a day of hiking!
CATEGORIES:youth, Seattle Explorers, Volunteer with Youth, Teens
CLASS:PUBLIC
END:VEVENT
BEGIN:VEVENT
DTSTAMP:20260420T183151Z
CREATED:20260126T202646Z
UID:ATEvent-e987b720733a41e2928ffbd04970e4b2
LAST-MODIFIED:20260126T202646Z
SUMMARY:Seattle Jr. MAC Snow Skills - Alpental Ski Area
DTSTART:20260502T070000Z
DTEND:20260503T065900Z
DESCRIPTION:Learn how to move in and on snow with an ice axe and other
  gear! This is the second pre-requisite for the Mt. St. Helens climb i
 n late May.
CATEGORIES:youth, Seattle Explorers, Volunteer with Youth
CLASS:PUBLIC
END:VEVENT
BEGIN:VEVENT
DTSTAMP:20260420T183151Z
CREATED:20251208T230653Z
UID:ATEvent-8fd4ad461c304c1db65833b7b4dea7c5
LAST-MODIFIED:20251208T230900Z
SUMMARY:Seattle Explorers Hike - Talapus & Olallie Lakes
DTSTART:20260502T070000Z
DTEND:20260503T065900Z
DESCRIPTION:Join us for a day of hiking!
CATEGORIES:youth, Seattle Explorers, Volunteer with Youth, Teens
CLASS:PUBLIC
END:VEVENT
BEGIN:VEVENT
DTSTAMP:20260420T183151Z
CREATED:20250812T205716Z
UID:ATEvent-1ea46c5f8d7e4d49ac1ea7b6955a8f69
LAST-MODIFIED:20251119T001307Z
SUMMARY:Seattle Junior MAC Climb Night - Mountaineers Seattle Program Center
DTSTART:20260506T070000Z
DTEND:20260507T065900Z
DESCRIPTION:Youth Programs open the climbing wall to students and fami
 lies.
CATEGORIES:youth, Seattle Explorers, Teens
CLASS:PUBLIC
END:VEVENT
BEGIN:VEVENT
DTSTAMP:20260420T183151Z
CREATED:20250812T205318Z
UID:ATEvent-433b174a50104e889aab3e1363b0d889
LAST-MODIFIED:20251119T001250Z
SUMMARY:Seattle Explorers Climb Night - Mountaineers Seattle Program Center
DTSTART:20260506T070000Z
DTEND:20260507T065900Z
DESCRIPTION:Youth Programs open the climbing wall to students and fami
 lies.
CATEGORIES:youth, Seattle Explorers, Teens
CLASS:PUBLIC
END:VEVENT
BEGIN:VEVENT
DTSTAMP:20260420T183151Z
CREATED:20250109T213618Z
UID:ATEvent-c6a95b1e6d2245b28bd3e8737b815814
LAST-MODIFIED:20251122T003351Z
SUMMARY:SEA Explorers & Jr. MAC Skills/Climb Night
DTSTART:20260507T010000Z
DTEND:20260507T030000Z
DESCRIPTION:Seattle Explorer and Jr. MAC families come together to pra
 ctice skills and climb.
CATEGORIES:Seattle Branch, Programs & Meetings, Seattle Youth, Seattle Explorers, Seattle Jr. MAC
CLASS:PUBLIC
END:VEVENT
BEGIN:VEVENT
DTSTAMP:20260420T183151Z
CREATED:20251205T204322Z
UID:ATEvent-e21eb3a5b7fa4294aacf2575756aa029
LAST-MODIFIED:20251205T204322Z
SUMMARY:Seattle Explorers Climbing - Exit 38
DTSTART:20260509T070000Z
DTEND:20260510T065900Z
DESCRIPTION:Join us for a day of climbing at a local crag!
CATEGORIES:youth, Seattle Explorers, Volunteer with Youth, Teens
CLASS:PUBLIC
END:VEVENT
BEGIN:VEVENT
DTSTAMP:20260420T183151Z
CREATED:20260313T014745Z
UID:ATEvent-e956f0904c0240369c4ee12879d7e59b
LAST-MODIFIED:20260325T035242Z
SUMMARY:Seattle Jr. MAC Hike - Oyster Dome
DTSTART:20260509T070000Z
DTEND:20260510T065900Z
DESCRIPTION:Join us for a day of hiking!
CATEGORIES:youth, Seattle Explorers, Volunteer with Youth, Teens
CLASS:PUBLIC
END:VEVENT
BEGIN:VEVENT
DTSTAMP:20260420T183151Z
CREATED:20260313T011935Z
UID:ATEvent-39ea4a7bd95d4428add4740dee3a8a7e
LAST-MODIFIED:20260325T041527Z
SUMMARY:Seattle Jr. MAC Hike - Poo Poo Point via High School Trail
DTSTART:20260509T070000Z
DTEND:20260510T065900Z
DESCRIPTION:Join us for a conditioning hike!
CATEGORIES:youth, Seattle Explorers, Volunteer with Youth, Teens
CLASS:PUBLIC
END:VEVENT
BEGIN:VEVENT
DTSTAMP:20260420T183151Z
CREATED:20251205T204700Z
UID:ATEvent-b298cbf6fe8a4187b47656b9859f098b
LAST-MODIFIED:20251205T205112Z
SUMMARY:Seattle Junior MAC Climbing - Index Town Walls
DTSTART:20260510T070000Z
DTEND:20260511T065900Z
DESCRIPTION:Join us for a day of climbing at a local crag!
CATEGORIES:youth, Seattle Explorers, Volunteer with Youth, Teens
CLASS:PUBLIC
END:VEVENT
BEGIN:VEVENT
DTSTAMP:20260420T183151Z
CREATED:20251205T210342Z
UID:ATEvent-07019a4ac98c492f8bb70cf99ed0d391
LAST-MODIFIED:20260205T005414Z
SUMMARY:Seattle Explorers Camping & Climbing Trip - Tieton River: Royal Columns
DTSTART:20260515T070000Z
DTEND:20260518T065900Z
DESCRIPTION:Join us for a weekend of climbing and hiking!
CATEGORIES:youth, Seattle Explorers, Volunteer with Youth, Teens
CLASS:PUBLIC
END:VEVENT
BEGIN:VEVENT
DTSTAMP:20260420T183151Z
CREATED:20251205T210040Z
UID:ATEvent-f131193edc3e418f8124fc83459afec6
LAST-MODIFIED:20260205T005428Z
SUMMARY:Seattle Junior MAC Camping & Climbing Trip - Tieton River: Royal Columns
DTSTART:20260515T070000Z
DTEND:20260518T065900Z
DESCRIPTION:Join us for a weekend of climbing and hiking!
CATEGORIES:youth, Seattle Explorers, Volunteer with Youth, Teens
CLASS:PUBLIC
END:VEVENT
BEGIN:VEVENT
DTSTAMP:20260420T183151Z
CREATED:20260313T013547Z
UID:ATEvent-0dfd0ac062294e6d95edd62fc0224677
LAST-MODIFIED:20260313T013547Z
SUMMARY:Seattle Jr. MAC Hike - Mount Si Main Trail
DTSTART:20260516T070000Z
DTEND:20260517T065900Z
DESCRIPTION:Join us for a day of hiking!
CATEGORIES:youth, Seattle Explorers, Volunteer with Youth, Teens
CLASS:PUBLIC
END:VEVENT
BEGIN:VEVENT
DTSTAMP:20260420T183151Z
CREATED:20251217T192315Z
UID:ATEvent-777b603475c745b3bc8cc1d8cf518a84
LAST-MODIFIED:20260205T005620Z
SUMMARY:Vertical World Family Climb Session - Vertical World\, Seattle
DTSTART:20260517T070000Z
DTEND:20260518T065900Z
DESCRIPTION:Join Mountaineers youth program members for our new monthl
 y climbing meetups!
CATEGORIES:Seattle Explorers, Seattle Youth
CLASS:PUBLIC
END:VEVENT
BEGIN:VEVENT
DTSTAMP:20260420T183151Z
CREATED:20260224T211601Z
UID:ATEvent-27ec0c36c82c40d78fa782237e112bde
LAST-MODIFIED:20260224T211601Z
SUMMARY:Seattle Jr. MAC Backpack - Mountaineers Seattle Program Center
DTSTART:20260523T070000Z
DTEND:20260526T065900Z
DESCRIPTION:Join us for a memorial day weekend of backpacking! Locatio
 n will be chosen by the students.
CATEGORIES:youth, Seattle Explorers, Teens, Volunteer with Youth
CLASS:PUBLIC
END:VEVENT
BEGIN:VEVENT
DTSTAMP:20260420T183151Z
CREATED:20260224T211931Z
UID:ATEvent-7b6f659b4e9d484fb35bc6bb57a61b70
LAST-MODIFIED:20260325T235841Z
SUMMARY:Seattle Explorers Backpack - Mountaineers Seattle Program Center
DTSTART:20260523T070000Z
DTEND:20260526T065900Z
DESCRIPTION:Join us for a weekend of backpacking! Location is TBD.
CATEGORIES:youth, Seattle Explorers, Teens, Volunteer with Youth
CLASS:PUBLIC
END:VEVENT
BEGIN:VEVENT
DTSTAMP:20260420T183151Z
CREATED:20250812T210401Z
UID:ATEvent-bc9613bc147640f2a917df706d51c9b7
LAST-MODIFIED:20251119T001343Z
SUMMARY:Seattle Junior MAC Meeting - Mountaineers Seattle Program Center
DTSTART:20260527T070000Z
DTEND:20260528T065900Z
DESCRIPTION:Jr. MAC meet once a month at the Seattle Program Center fr
 om 6-8pm
CATEGORIES:youth, Seattle Explorers, Volunteer with Youth, Teens
CLASS:PUBLIC
END:VEVENT
BEGIN:VEVENT
DTSTAMP:20260420T183151Z
CREATED:20250812T210709Z
UID:ATEvent-1d1735e1b82241878de75d8300c3ee22
LAST-MODIFIED:20251119T001334Z
SUMMARY:Seattle Explorers General Meeting - Mountaineers Seattle Program Center
DTSTART:20260527T070000Z
DTEND:20260528T065900Z
DESCRIPTION:Explorers meet once a month at the Seattle Program Center 
 from 6-8pm
CATEGORIES:youth, Seattle Explorers, Volunteer with Youth, Teens
CLASS:PUBLIC
END:VEVENT
BEGIN:VEVENT
DTSTAMP:20260420T183151Z
CREATED:20250109T000133Z
UID:ATEvent-1f2a5098ac534708bd8dca1840c0c942
LAST-MODIFIED:20251122T003459Z
SUMMARY:Seattle Explorers & Jr. MAC - General Meeting
DTSTART:20260528T010000Z
DTEND:20260528T030000Z
DESCRIPTION:Seattle Explorer and Jr. MAC Families meet on the 3rd or 4
 th Wednesday of the month. Volunteers\, Staff\, and chaperones present
  a unique or interesting topic to the students for an experiential lea
 rning opportunity.
CATEGORIES:Seattle Branch, Programs & Meetings, Seattle Explorers, Seattle Jr. MAC
CLASS:PUBLIC
END:VEVENT
BEGIN:VEVENT
DTSTAMP:20260420T183151Z
CREATED:20251120T015651Z
UID:ATEvent-bc16e2c6215b43c991a46599c3918499
LAST-MODIFIED:20251120T015713Z
SUMMARY:Seattle Jr. MAC Scramble - Mount St. Helens/Worm Flows
DTSTART:20260530T070000Z
DTEND:20260601T065900Z
DESCRIPTION:This will be a climb of Mt. St. Helens. We will either dri
 ve down on Friday night or early Saturday morning. We will camp on Sat
 urday night before heading back.
CATEGORIES:youth, Seattle Explorers, Teens, Volunteer with Youth
CLASS:PUBLIC
END:VEVENT
BEGIN:VEVENT
DTSTAMP:20260420T183151Z
CREATED:20250812T205720Z
UID:ATEvent-4b19501be8164e2689e18f257d113747
LAST-MODIFIED:20251023T174622Z
SUMMARY:Seattle Junior MAC Climb Night - Mountaineers Seattle Program Center
DTSTART:20260617T070000Z
DTEND:20260618T065900Z
DESCRIPTION:Youth Programs open the climbing wall to students and fami
 lies.
CATEGORIES:youth, Seattle Explorers, Teens
CLASS:PUBLIC
END:VEVENT
BEGIN:VEVENT
DTSTAMP:20260420T183151Z
CREATED:20250812T205322Z
UID:ATEvent-1d636019be654b869f5c13e1bf6e8238
LAST-MODIFIED:20251023T174349Z
SUMMARY:Seattle Explorers Climb Night - Mountaineers Seattle Program Center
DTSTART:20260617T070000Z
DTEND:20260618T065900Z
DESCRIPTION:Youth Programs open the climbing wall to students and fami
 lies.
CATEGORIES:youth, Seattle Explorers, Teens
CLASS:PUBLIC
END:VEVENT
BEGIN:VEVENT
DTSTAMP:20260420T183151Z
CREATED:20250109T213640Z
UID:ATEvent-4e2016c94e2641208a1ba2fdaddbe45a
LAST-MODIFIED:20251122T003603Z
SUMMARY:SEA Explorers & Jr. MAC Skills/Climb Night
DTSTART:20260618T010000Z
DTEND:20260618T030000Z
DESCRIPTION:Seattle Explorer and Jr. MAC families come together to pra
 ctice skills and climb.
CATEGORIES:Seattle Branch, Programs & Meetings, Seattle Youth, Seattle Explorers, Seattle Jr. MAC
CLASS:PUBLIC
END:VEVENT
BEGIN:VEVENT
DTSTAMP:20260420T183151Z
CREATED:20251205T044733Z
UID:ATEvent-905355ae9ed2444a8b3377fe55768cd9
LAST-MODIFIED:20251205T050731Z
SUMMARY:Jr. MAC and Explorers Scramble - Bean Peak
DTSTART:20260618T070000Z
DTEND:20260620T065900Z
DESCRIPTION:Join us for a fun rock scramble with beautiful views and b
 ackpacking.
CATEGORIES:Seattle Jr. MAC, Seattle Explorers, seattle youth
CLASS:PUBLIC
END:VEVENT
BEGIN:VEVENT
DTSTAMP:20260420T183151Z
CREATED:20260330T182507Z
UID:ATEvent-3e85d4080b374771ac1a16ce694483a4
LAST-MODIFIED:20260330T182507Z
SUMMARY:Seattle Explorers Hike - Wallace Falls
DTSTART:20260620T070000Z
DTEND:20260621T065900Z
DESCRIPTION:Join us for a day of hiking!
CATEGORIES:youth, Seattle Explorers, Volunteer with Youth, Teens
CLASS:PUBLIC
END:VEVENT
BEGIN:VEVENT
DTSTAMP:20260420T183151Z
CREATED:20251217T201116Z
UID:ATEvent-4e5a54edea474822bdf64c913acc9ee1
LAST-MODIFIED:20251217T201116Z
SUMMARY:Vertical World Family Climb Session - Vertical World\, Seattle
DTSTART:20260621T070000Z
DTEND:20260622T065900Z
DESCRIPTION:Join Mountaineers youth program members for our new monthl
 y climbing meetups!
CATEGORIES:Seattle Explorers, Seattle Youth
CLASS:PUBLIC
END:VEVENT
BEGIN:VEVENT
DTSTAMP:20260420T183151Z
CREATED:20250812T210405Z
UID:ATEvent-0d9debcd3a2c471ab5b4ae69e569b4e9
LAST-MODIFIED:20250812T210408Z
SUMMARY:Seattle Junior MAC Meeting - Mountaineers Seattle Program Center
DTSTART:20260624T070000Z
DTEND:20260625T065900Z
DESCRIPTION:Jr. MAC meet once a month at the Seattle Program Center fr
 om 6-8pm
CATEGORIES:youth, Seattle Explorers, Volunteer with Youth, Teens
CLASS:PUBLIC
END:VEVENT
BEGIN:VEVENT
DTSTAMP:20260420T183151Z
CREATED:20250812T210712Z
UID:ATEvent-8b56d01d2521431d969a8817bacb129d
LAST-MODIFIED:20250812T210715Z
SUMMARY:Seattle Explorers General Meeting - Mountaineers Seattle Program Center
DTSTART:20260624T070000Z
DTEND:20260625T065900Z
DESCRIPTION:Explorers meet once a month at the Seattle Program Center 
 from 6-8pm
CATEGORIES:youth, Seattle Explorers, Volunteer with Youth, Teens
CLASS:PUBLIC
END:VEVENT
BEGIN:VEVENT
DTSTAMP:20260420T183151Z
CREATED:20250109T000234Z
UID:ATEvent-6f08d2cf646d43d2bfdcdc5299e975ee
LAST-MODIFIED:20251122T003618Z
SUMMARY:Seattle Explorers & Jr. MAC - General Meeting
DTSTART:20260625T010000Z
DTEND:20260625T030000Z
DESCRIPTION:Seattle Explorer and Jr. MAC Families meet on the 3rd or 4
 th Wednesday of the month. Volunteers\, Staff\, and chaperones present
  a unique or interesting topic to the students for an experiential lea
 rning opportunity.
CATEGORIES:Seattle Branch, Programs & Meetings, Seattle Explorers, Seattle Jr. MAC
CLASS:PUBLIC
END:VEVENT
BEGIN:VEVENT
DTSTAMP:20260420T183151Z
CREATED:20260330T183003Z
UID:ATEvent-03c15ca8db024b018d25fdd5d3db80d4
LAST-MODIFIED:20260330T183003Z
SUMMARY:Seattle Jr. MAC Hike - Oyster Dome
DTSTART:20260627T070000Z
DTEND:20260628T065900Z
DESCRIPTION:Join us for a day of hiking!
CATEGORIES:youth, Seattle Explorers, Volunteer with Youth, Teens
CLASS:PUBLIC
END:VEVENT
BEGIN:VEVENT
DTSTAMP:20260420T183151Z
CREATED:20250812T210408Z
UID:ATEvent-fddf9591f35f4e03b5c68f0d370cf971
LAST-MODIFIED:20250812T210415Z
SUMMARY:Seattle Junior MAC Meeting - Mountaineers Seattle Program Center
DTSTART:20260708T070000Z
DTEND:20260709T065900Z
DESCRIPTION:Jr. MAC meet once a month at the Seattle Program Center fr
 om 6-8pm
CATEGORIES:youth, Seattle Explorers, Volunteer with Youth, Teens
CLASS:PUBLIC
END:VEVENT
BEGIN:VEVENT
DTSTAMP:20260420T183151Z
CREATED:20250812T210715Z
UID:ATEvent-637391d9a8bd4b5bb117cc5cb61a6edd
LAST-MODIFIED:20250812T210718Z
SUMMARY:Seattle Explorers General Meeting - Mountaineers Seattle Program Center
DTSTART:20260708T070000Z
DTEND:20260709T065900Z
DESCRIPTION:Explorers meet once a month at the Seattle Program Center 
 from 6-8pm
CATEGORIES:youth, Seattle Explorers, Volunteer with Youth, Teens
CLASS:PUBLIC
END:VEVENT
BEGIN:VEVENT
DTSTAMP:20260420T183151Z
CREATED:20250109T000318Z
UID:ATEvent-5175492f5012490fb3d9f3ade1d68509
LAST-MODIFIED:20251122T003721Z
SUMMARY:Seattle Explorers & Jr. MAC - General Meeting
DTSTART:20260709T010000Z
DTEND:20260709T030000Z
DESCRIPTION:Seattle Explorer and Jr. MAC Families meet on the 3rd or 4
 th Wednesday of the month. Volunteers\, Staff\, and chaperones present
  a unique or interesting topic to the students for an experiential lea
 rning opportunity.
CATEGORIES:Seattle Branch, Programs & Meetings, Seattle Explorers, Seattle Jr. MAC
CLASS:PUBLIC
END:VEVENT
BEGIN:VEVENT
DTSTAMP:20260420T183151Z
CREATED:20251126T185248Z
UID:ATEvent-2fd1fbf28917442cabc0788bce5692c2
LAST-MODIFIED:20251126T185316Z
SUMMARY:Seattle Jr. MAC Summer Trip - Squamish
DTSTART:20260720T070000Z
DTEND:20260726T065900Z
DESCRIPTION:Join the Jr. MACers (and Explorers) on a 5 day trip to som
 ewhere in the PNW!
CATEGORIES:youth, Seattle Explorers, Volunteer with Youth, Teens
CLASS:PUBLIC
END:VEVENT
BEGIN:VEVENT
DTSTAMP:20260420T183151Z
CREATED:20251126T185045Z
UID:ATEvent-25d439157cc74992b7de2304a4a87697
LAST-MODIFIED:20251126T185045Z
SUMMARY:Seattle Explorers Summer Trip - Squamish
DTSTART:20260720T070000Z
DTEND:20260726T065900Z
DESCRIPTION:Join the Explorers (and Jr. MACers) on a 5 day trip to som
 ewhere in the PNW!
CATEGORIES:youth, Seattle Explorers, Volunteer with Youth, Teens
CLASS:PUBLIC
END:VEVENT
BEGIN:VEVENT
DTSTAMP:20260420T183151Z
CREATED:20250108T235042Z
UID:ATEvent-0a13db71f8814913b1bda1ae25fdcbae
LAST-MODIFIED:20251122T003756Z
SUMMARY:SEA Youth Clubs End of Year Potluck
DTSTART:20260813T010000Z
DTEND:20260813T030000Z
DESCRIPTION:Seattle Youth Clubs come together to celebrate the end of 
 the program year: Pathfinders\, Explorers\, and Jr. MAC
CATEGORIES:Seattle Branch, Programs & Meetings, Seattle Pathfinders, Seattle Nomads, Seattle Explorers, Seattle Jr. MAC
CLASS:PUBLIC
END:VEVENT
BEGIN:VEVENT
DTSTAMP:20260420T183151Z
CREATED:20250401T195201Z
UID:ATEvent-88c4cd1b980148b88ceb90fe827656da
LAST-MODIFIED:20260306T192929Z
SUMMARY:CANCELED - Seattle Explorers & Jr. MAC - New Member Info Webinar
DTSTART:20260909T010000Z
DTEND:20260909T030000Z
DESCRIPTION:Seattle Explorer and Jr. MAC Families meet on the 3rd or 4
 th Wednesday of the month. Volunteers\, Staff\, and chaperones present
  a unique or interesting topic to the students for an experiential lea
 rning opportunity.
CATEGORIES:Seattle Branch, Programs & Meetings, Seattle Explorers, Seattle Jr. MAC
CLASS:PUBLIC
END:VEVENT
BEGIN:VEVENT
DTSTAMP:20260420T183151Z
CREATED:20251208T191219Z
UID:ATEvent-b144201263ef4e4ea5ceadd0182c89d1
LAST-MODIFIED:20260306T192817Z
SUMMARY:Seattle Explorers & Jr. MAC - Open House for Prospective Members
DTSTART:20260917T010000Z
DTEND:20260917T030000Z
DESCRIPTION:The Explorers & Jr. MAC New Information Seminar is an open
  house for prospective students (5th - 8th grade) and their families t
 o learn more about the program from staff and returning students.
CATEGORIES:Seattle Branch, Programs & Meetings, Seattle Explorers, Seattle Jr. MAC, New Member Events, Home Page, Foothills Branch, Everett Branch, Member Events
CLASS:PUBLIC
END:VEVENT
BEGIN:VEVENT
DTSTAMP:20260420T183151Z
CREATED:20250128T220853Z
UID:ATEvent-0a5dd63998cc4afea0d69540db864728
LAST-MODIFIED:20250226T225844Z
SUMMARY:Seattle Volunteer with Youth Orientation Dinner
DTSTART:20261002T010000Z
DTEND:20261002T040000Z
DESCRIPTION:A time for parents and volunteers to learn about the youth
  programs and how to volunteer/become involved.
CATEGORIES:Seattle Branch, Programs & Meetings, Seattle Explorers, Seattle Pathfinders, Seattle MAC, Volunteer with Youth, Seattle Jr. MAC, Seattle Nomads
CLASS:PUBLIC
END:VEVENT
BEGIN:VEVENT
DTSTAMP:20260420T183151Z
CREATED:20250109T000436Z
UID:ATEvent-ae56422593f74ac1a46058c1609fdf93
LAST-MODIFIED:20251122T003915Z
SUMMARY:Seattle Explorers & Jr. MAC - General Meeting
DTSTART:20261015T010000Z
DTEND:20261015T030000Z
DESCRIPTION:Seattle Explorer and Jr. MAC Families meet on the 3rd or 4
 th Wednesday of the month. Volunteers\, Staff\, and chaperones present
  a unique or interesting topic to the students for an experiential lea
 rning opportunity.
CATEGORIES:Seattle Branch, Programs & Meetings, Seattle Explorers, Seattle Jr. MAC
CLASS:PUBLIC
END:VEVENT
BEGIN:VEVENT
DTSTAMP:20260420T183151Z
CREATED:20250109T213955Z
UID:ATEvent-8c48f53e141646a6b0bc13688e0b08c3
LAST-MODIFIED:20251122T003942Z
SUMMARY:SEA Explorers & Jr. MAC Skills/Climb Night
DTSTART:20261029T010000Z
DTEND:20261029T030000Z
DESCRIPTION:Seattle Explorer and Jr. MAC families come together to pra
 ctice skills and climb.
CATEGORIES:Seattle Branch, Programs & Meetings, Seattle Youth, Seattle Explorers, Seattle Jr. MAC
CLASS:PUBLIC
END:VEVENT
BEGIN:VEVENT
DTSTAMP:20260420T183151Z
CREATED:20250109T214024Z
UID:ATEvent-5ccda96553fc4bd7be8298c7200ceb22
LAST-MODIFIED:20251122T003958Z
SUMMARY:SEA Explorers & Jr. MAC Skills/Climb Night
DTSTART:20261105T020000Z
DTEND:20261105T040000Z
DESCRIPTION:Seattle Explorer and Jr. MAC families come together to pra
 ctice skills and climb.
CATEGORIES:Seattle Branch, Programs & Meetings, Seattle Youth, Seattle Explorers, Seattle Jr. MAC
CLASS:PUBLIC
END:VEVENT
BEGIN:VEVENT
DTSTAMP:20260420T183151Z
CREATED:20250128T221049Z
UID:ATEvent-85edacd3feeb40dab8d7c444310c12c9
LAST-MODIFIED:20250226T234632Z
SUMMARY:SEA Youth Clubs Parents Workshop - Welcome & Website 101
DTSTART:20261106T020000Z
DTEND:20261106T040000Z
DESCRIPTION:Welcome to clubs and intro to the website.
CATEGORIES:Seattle Branch, Programs & Meetings, Seattle Youth, Seattle Jr. MAC, Seattle Explorers, Seattle Pathfinders, Seattle Nomads, Volunteer with Youth, Seattle MAC
CLASS:PUBLIC
END:VEVENT
BEGIN:VEVENT
DTSTAMP:20260420T183151Z
CREATED:20250109T000501Z
UID:ATEvent-177202f8fc8147ad8d9141224e932fd6
LAST-MODIFIED:20251122T004138Z
SUMMARY:Seattle Explorers & Jr. MAC - General Meeting
DTSTART:20261126T020000Z
DTEND:20261126T040000Z
DESCRIPTION:Seattle Explorer and Jr. MAC Families meet on the 3rd or 4
 th Wednesday of the month. Volunteers\, Staff\, and chaperones present
  a unique or interesting topic to the students for an experiential lea
 rning opportunity.
CATEGORIES:Seattle Branch, Programs & Meetings, Seattle Explorers, Seattle Jr. MAC
CLASS:PUBLIC
END:VEVENT
BEGIN:VEVENT
DTSTAMP:20260420T183151Z
CREATED:20250109T214058Z
UID:ATEvent-d977f397d04c4d2eb46a65c74f6fbdd5
LAST-MODIFIED:20251122T004222Z
SUMMARY:SEA Explorers & Jr. MAC Skills/Climb Night
DTSTART:20261210T020000Z
DTEND:20261210T040000Z
DESCRIPTION:Seattle Explorer and Jr. MAC families come together to pra
 ctice skills and climb.
CATEGORIES:Seattle Branch, Programs & Meetings, Seattle Youth, Seattle Explorers, Seattle Jr. MAC
CLASS:PUBLIC
END:VEVENT
BEGIN:VEVENT
DTSTAMP:20260420T183151Z
CREATED:20250128T221236Z
UID:ATEvent-093158d53eb84931bd048f6781ec106e
LAST-MODIFIED:20250226T234855Z
SUMMARY:SEA Youth Clubs Parents Workshop: Trip Leadership Part I
DTSTART:20261211T020000Z
DTEND:20261211T040000Z
DESCRIPTION:SEA youth club parents come together to learn what it take
 s to plan and lead trips for the youth clubs.
CATEGORIES:Seattle Branch, Programs & Meetings, Seattle Youth, Seattle MAC, Seattle Jr. MAC, Seattle Explorers, Seattle Pathfinders, Seattle Nomads, Volunteer with Youth
CLASS:PUBLIC
END:VEVENT
BEGIN:VEVENT
DTSTAMP:20260420T183151Z
CREATED:20250108T235153Z
UID:ATEvent-0eee4ddeaa184eab86a8fcfa691b34bd
LAST-MODIFIED:20251122T004208Z
SUMMARY:Seattle Youth Clubs - Holiday Party
DTSTART:20261217T020000Z
DTEND:20261217T040000Z
DESCRIPTION:A monthly meeting of Seattle Junior MAC/Explorers
CATEGORIES:Seattle Branch, Programs & Meetings, Seattle Nomads, Seattle Pathfinders, Seattle Explorers, Seattle Jr. MAC
CLASS:PUBLIC
END:VEVENT
BEGIN:VEVENT
DTSTAMP:20260420T183151Z
CREATED:20251208T192606Z
UID:ATEvent-845ab7448078449c91fa9ba0ddfbb7f5
LAST-MODIFIED:20260202T195318Z
SUMMARY:Seattle Explorers & Jr. MAC - General Meeting
DTSTART:20270121T020000Z
DTEND:20270121T040000Z
DESCRIPTION:Seattle Explorer and Jr. MAC Families meet on the 3rd or 4
 th Wednesday of the month. Volunteers\, Staff\, and chaperones present
  a unique or interesting topic to the students for an experiential lea
 rning opportunity.
CATEGORIES:Seattle Branch, Programs & Meetings, Seattle Explorers, Seattle Jr. MAC
CLASS:PUBLIC
END:VEVENT
BEGIN:VEVENT
DTSTAMP:20260420T183151Z
CREATED:20251208T192625Z
UID:ATEvent-cb08a8a8b4ec44f8bda5e3246f7213b2
LAST-MODIFIED:20260202T195753Z
SUMMARY:Seattle Explorers & Jr. MAC - General Meeting
DTSTART:20270318T010000Z
DTEND:20270318T030000Z
DESCRIPTION:Seattle Explorer and Jr. MAC Families meet on the 3rd or 4
 th Wednesday of the month. Volunteers\, Staff\, and chaperones present
  a unique or interesting topic to the students for an experiential lea
 rning opportunity.
CATEGORIES:Seattle Branch, Programs & Meetings, Seattle Explorers, Seattle Jr. MAC
CLASS:PUBLIC
END:VEVENT
BEGIN:VEVENT
DTSTAMP:20260420T183151Z
CREATED:20251208T193735Z
UID:ATEvent-25e1b46de9444a53b273741de97123d1
LAST-MODIFIED:20260202T195911Z
SUMMARY:Seattle Explorers & Jr. MAC - General Meeting
DTSTART:20270520T010000Z
DTEND:20270520T030000Z
DESCRIPTION:Seattle Explorer and Jr. MAC Families meet on the 3rd or 4
 th Wednesday of the month. Volunteers\, Staff\, and chaperones present
  a unique or interesting topic to the students for an experiential lea
 rning opportunity.
CATEGORIES:Seattle Branch, Programs & Meetings, Seattle Explorers, Seattle Jr. MAC
CLASS:PUBLIC
END:VEVENT
BEGIN:VEVENT
DTSTAMP:20260420T183151Z
CREATED:20251208T193742Z
UID:ATEvent-cf7215ed57df44dd82dfd7399c44b5e2
LAST-MODIFIED:20260326T184045Z
SUMMARY:Seattle Explorers & Jr. MAC - General Meeting
DTSTART:20270617T010000Z
DTEND:20270617T030000Z
DESCRIPTION:Seattle Explorer and Jr. MAC Families meet on the 3rd or 4
 th Wednesday of the month. Volunteers\, Staff\, and chaperones present
  a unique or interesting topic to the students for an experiential lea
 rning opportunity.
CATEGORIES:Seattle Branch, Programs & Meetings, Seattle Explorers, Seattle Jr. MAC
CLASS:PUBLIC
END:VEVENT
BEGIN:VEVENT
DTSTAMP:20260420T183151Z
CREATED:20251208T193749Z
UID:ATEvent-24287cca2da145549b22da4b1c6555c1
LAST-MODIFIED:20260209T201351Z
SUMMARY:Seattle Explorers & Jr. MAC - General Meeting
DTSTART:20270708T010000Z
DTEND:20270708T030000Z
DESCRIPTION:Seattle Explorer and Jr. MAC Families meet on the 3rd or 4
 th Wednesday of the month. Volunteers\, Staff\, and chaperones present
  a unique or interesting topic to the students for an experiential lea
 rning opportunity.
CATEGORIES:Seattle Branch, Programs & Meetings, Seattle Explorers, Seattle Jr. MAC
CLASS:PUBLIC
END:VEVENT
BEGIN:VEVENT
DTSTAMP:20260420T183151Z
CREATED:20251208T193959Z
UID:ATEvent-a945daca6ea84dd5a2e49ecbf995b52b
LAST-MODIFIED:20260209T201027Z
SUMMARY:Seattle Explorers & Jr. MAC - General Meeting
DTSTART:20271021T010000Z
DTEND:20271021T030000Z
DESCRIPTION:Seattle Explorer and Jr. MAC Families meet on the 3rd or 4
 th Wednesday of the month. Volunteers\, Staff\, and chaperones present
  a unique or interesting topic to the students for an experiential lea
 rning opportunity.
CATEGORIES:Seattle Branch, Programs & Meetings, Seattle Explorers, Seattle Jr. MAC
CLASS:PUBLIC
END:VEVENT
BEGIN:VEVENT
DTSTAMP:20260420T183151Z
CREATED:20251208T194002Z
UID:ATEvent-f0cb3ca99380431496505976e04f8f24
LAST-MODIFIED:20260209T201012Z
SUMMARY:Seattle Explorers & Jr. MAC - General Meeting
DTSTART:20271118T020000Z
DTEND:20271118T040000Z
DESCRIPTION:Seattle Explorer and Jr. MAC Families meet on the 3rd or 4
 th Wednesday of the month. Volunteers\, Staff\, and chaperones present
  a unique or interesting topic to the students for an experiential lea
 rning opportunity.
CATEGORIES:Seattle Branch, Programs & Meetings, Seattle Explorers, Seattle Jr. MAC
CLASS:PUBLIC
END:VEVENT
BEGIN:VEVENT
DTSTAMP:20260420T183151Z
CREATED:20251208T191659Z
UID:ATEvent-5b955f4b37604eaf95554d72eea1b2fa
LAST-MODIFIED:20260209T201007Z
SUMMARY:Seattle Youth Clubs - Holiday Party
DTSTART:20271209T020000Z
DTEND:20271209T040000Z
DESCRIPTION:Holiday Party Potluck style for our Seattle Youth Club fam
 ilies: Nomads\, Pathfinders\, Explorers\, Jr. Mac.
CATEGORIES:Seattle Branch, Programs & Meetings, Seattle Pathfinders, Seattle Explorers, Seattle Jr. MAC
CLASS:PUBLIC
END:VEVENT
END:VCALENDAR
