BEGIN:VCALENDAR
VERSION:2.0
PRODID:-//Plone.org//NONSGML plone.app.event//EN
X-WR-TIMEZONE:US/Pacific
BEGIN:VEVENT
SUMMARY:Winter Camping Demo Day
DTSTART;VALUE=DATE-TIME:20260125T090000
DTEND;VALUE=DATE-TIME:20260125T170000
DTSTAMP;VALUE=DATE-TIME:20260423T172025Z
UID:167ecdb4eb19468da601cab37da4f7c6@localhost:6081
CREATED;VALUE=DATE-TIME:20251106T150244Z
DESCRIPTION:In-person lecture and gear demos for Tacoma Branch's winter ca
 mping course.
LAST-MODIFIED;VALUE=DATE-TIME:20251106T173644Z
LOCATION:Tacoma Program Center
URL:https://www.mountaineers.org/locations-lodges/tacoma-program-center/ev
 ents/winter-camping-demo-day-1
END:VEVENT
BEGIN:VTIMEZONE
TZID:America/Los_Angeles
X-LIC-LOCATION:America/Los_Angeles
BEGIN:STANDARD
DTSTART;VALUE=DATE-TIME:20251102T010000
TZNAME:PST
TZOFFSETFROM:-0700
TZOFFSETTO:-0800
END:STANDARD
END:VTIMEZONE
END:VCALENDAR
