BEGIN:VCALENDAR
VERSION:2.0
PRODID:-//Plone.org//NONSGML plone.app.event//EN
X-WR-TIMEZONE:US/Pacific
BEGIN:VEVENT
SUMMARY:Wilderness Navigation Classroom Session
DTSTART;VALUE=DATE-TIME:20260315T090000
DTEND;VALUE=DATE-TIME:20260315T170000
DTSTAMP;VALUE=DATE-TIME:20260420T020911Z
UID:1050d07a388641cd8ad5df487a72b18d@localhost:6081
CREATED;VALUE=DATE-TIME:20251115T051245Z
DESCRIPTION:Wilderness Navigation Classroom Session to focus on compass be
 aring's and map work
LAST-MODIFIED;VALUE=DATE-TIME:20251117T175427Z
LOCATION:Tacoma Program Center
URL:https://www.mountaineers.org/locations-lodges/tacoma-program-center/ev
 ents/wilderness-navigation-classroom-session
END:VEVENT
BEGIN:VTIMEZONE
TZID:America/Los_Angeles
X-LIC-LOCATION:America/Los_Angeles
BEGIN:DAYLIGHT
DTSTART;VALUE=DATE-TIME:20260308T030000
TZNAME:PDT
TZOFFSETFROM:-0800
TZOFFSETTO:-0700
END:DAYLIGHT
END:VTIMEZONE
END:VCALENDAR
