BEGIN:VCALENDAR
VERSION:2.0
PRODID:-//Plone.org//NONSGML plone.app.event//EN
X-WR-TIMEZONE:US/Pacific
BEGIN:VEVENT
SUMMARY:Where in the World Have You Been? Hiking Adventures in Scotland
DTSTART;VALUE=DATE-TIME:20260319T183000
DTEND;VALUE=DATE-TIME:20260319T203000
DTSTAMP;VALUE=DATE-TIME:20260420T021527Z
UID:c1de0a3bb3a944f49075654c04b486d6@localhost:6081
CREATED;VALUE=DATE-TIME:20251028T190314Z
DESCRIPTION:Marilyn Thompson\, Don Thompson\, and Lisa McPeak describe the
 ir separate trips and recent routes in Scotland\, suggesting various ways 
 of planning a Highlands or Lowlands excursion.
LAST-MODIFIED;VALUE=DATE-TIME:20260124T001404Z
LOCATION:Tacoma Program Center
URL:https://www.mountaineers.org/locations-lodges/tacoma-program-center/ev
 ents/where-in-the-world-have-you-been-hiking-adventures-in-scotland
END:VEVENT
BEGIN:VTIMEZONE
TZID:America/Los_Angeles
X-LIC-LOCATION:America/Los_Angeles
BEGIN:DAYLIGHT
DTSTART;VALUE=DATE-TIME:20260308T030000
TZNAME:PDT
TZOFFSETFROM:-0800
TZOFFSETTO:-0700
END:DAYLIGHT
END:VTIMEZONE
END:VCALENDAR
