BEGIN:VCALENDAR
VERSION:2.0
PRODID:-//Plone.org//NONSGML plone.app.event//EN
X-WR-TIMEZONE:US/Pacific
BEGIN:VEVENT
SUMMARY:Vision 2022 Feedback Meeting South Sound - Please RSVP
DTSTART;VALUE=DATE-TIME:20170620T183000
DTEND;VALUE=DATE-TIME:20170620T210000
DTSTAMP;VALUE=DATE-TIME:20260420T200042Z
UID:5c4106bf3c394a84a945e0b6f3885964@localhost:6081
CREATED;VALUE=DATE-TIME:20170505T180931Z
DESCRIPTION:A listening and information gathering session open to all Moun
 taineers interested in the next strategic plan: Vision 2022.
LAST-MODIFIED;VALUE=DATE-TIME:20170616T220439Z
LOCATION:Tacoma Program Center
URL:https://www.mountaineers.org/locations-lodges/tacoma-program-center/ev
 ents/vision-2022-feedback-south-sound
END:VEVENT
BEGIN:VTIMEZONE
TZID:America/Los_Angeles
X-LIC-LOCATION:America/Los_Angeles
BEGIN:DAYLIGHT
DTSTART;VALUE=DATE-TIME:20170312T030000
TZNAME:PDT
TZOFFSETFROM:-0800
TZOFFSETTO:-0700
END:DAYLIGHT
END:VTIMEZONE
END:VCALENDAR
