BEGIN:VCALENDAR
VERSION:2.0
PRODID:-//Plone.org//NONSGML plone.app.event//EN
X-WR-TIMEZONE:US/Pacific
BEGIN:VEVENT
SUMMARY:Vision 2022 Feedback Meeting South Sound - Please RSVP
DTSTART;VALUE=DATE-TIME:20171002T183000
DTEND;VALUE=DATE-TIME:20171002T210000
DTSTAMP;VALUE=DATE-TIME:20260420T200200Z
UID:9156d8427c2f436e87843f139a6af5e5@localhost:6081
CREATED;VALUE=DATE-TIME:20170711T190003Z
DESCRIPTION:A listening and information gathering session open to all Moun
 taineers interested in the next strategic plan: Vision 2022.
LAST-MODIFIED;VALUE=DATE-TIME:20170712T181927Z
LOCATION:Tacoma Program Center
URL:https://www.mountaineers.org/locations-lodges/tacoma-program-center/ev
 ents/vision-2022-feedback-south-sound-round-2
END:VEVENT
BEGIN:VTIMEZONE
TZID:America/Los_Angeles
X-LIC-LOCATION:America/Los_Angeles
BEGIN:DAYLIGHT
DTSTART;VALUE=DATE-TIME:20170312T030000
TZNAME:PDT
TZOFFSETFROM:-0800
TZOFFSETTO:-0700
END:DAYLIGHT
END:VTIMEZONE
END:VCALENDAR
