BEGIN:VCALENDAR
VERSION:2.0
PRODID:-//Plone.org//NONSGML plone.app.event//EN
X-WR-TIMEZONE:US/Pacific
BEGIN:VEVENT
SUMMARY:The Mountaineers Board of Directors Spring Retreat
DTSTART;VALUE=DATE-TIME:20210313T070000
DTEND;VALUE=DATE-TIME:20210313T160000
DTSTAMP;VALUE=DATE-TIME:20260425T171525Z
UID:2ba11f835ccd4d58ae41416cec4db70f@localhost:6081
CREATED;VALUE=DATE-TIME:20200304T205204Z
DESCRIPTION:Board of Directors Spring Retreat 
LAST-MODIFIED;VALUE=DATE-TIME:20210610T223523Z
LOCATION:Tacoma Program Center
URL:https://www.mountaineers.org/locations-lodges/tacoma-program-center/ev
 ents/the-mountaineers-board-of-directors-spring-retreat-1
END:VEVENT
BEGIN:VTIMEZONE
TZID:America/Los_Angeles
X-LIC-LOCATION:America/Los_Angeles
BEGIN:STANDARD
DTSTART;VALUE=DATE-TIME:20201101T010000
TZNAME:PST
TZOFFSETFROM:-0700
TZOFFSETTO:-0800
END:STANDARD
END:VTIMEZONE
END:VCALENDAR
