BEGIN:VCALENDAR
VERSION:2.0
PRODID:-//Plone.org//NONSGML plone.app.event//EN
X-WR-TIMEZONE:US/Pacific
BEGIN:VEVENT
SUMMARY:Tacoma Pathfinders & Explorers Information NIght
DTSTART;VALUE=DATE-TIME:20240910T180000
DTEND;VALUE=DATE-TIME:20240910T190000
DTSTAMP;VALUE=DATE-TIME:20260420T113736Z
UID:ff66d2b945a0441b8d4b25dfe2c97dcb@localhost:6081
CREATED;VALUE=DATE-TIME:20240730T000730Z
DESCRIPTION:Prospective and returning Pathfinders and Explorers members sh
 ould join us to learn about the programs\, meet new members\, and climb.
LAST-MODIFIED;VALUE=DATE-TIME:20240730T000833Z
LOCATION:Tacoma Program Center
URL:https://www.mountaineers.org/locations-lodges/tacoma-program-center/ev
 ents/tacoma-pathfinders-explorers-information-night
END:VEVENT
BEGIN:VTIMEZONE
TZID:America/Los_Angeles
X-LIC-LOCATION:America/Los_Angeles
BEGIN:DAYLIGHT
DTSTART;VALUE=DATE-TIME:20240310T030000
TZNAME:PDT
TZOFFSETFROM:-0800
TZOFFSETTO:-0700
END:DAYLIGHT
END:VTIMEZONE
END:VCALENDAR
