BEGIN:VCALENDAR
VERSION:2.0
PRODID:-//Plone.org//NONSGML plone.app.event//EN
X-WR-TIMEZONE:US/Pacific
BEGIN:VEVENT
SUMMARY:Tacoma Climbing Graduation
DTSTART;VALUE=DATE-TIME:20261016T180000
DTEND;VALUE=DATE-TIME:20261016T210000
DTSTAMP;VALUE=DATE-TIME:20260424T114545Z
UID:2ad37c444fe04b6eb4fd3745019cfbd5@localhost:6081
CREATED;VALUE=DATE-TIME:20250505T171821Z
DESCRIPTION:Graduation celebration for Tacoma Intermediate\, Basic and Scr
 ambling courses
LAST-MODIFIED;VALUE=DATE-TIME:20250505T171857Z
LOCATION:Tacoma Program Center
URL:https://www.mountaineers.org/locations-lodges/tacoma-program-center/ev
 ents/tacoma-climbing-graduation-2026-10-16
END:VEVENT
BEGIN:VTIMEZONE
TZID:America/Los_Angeles
X-LIC-LOCATION:America/Los_Angeles
BEGIN:DAYLIGHT
DTSTART;VALUE=DATE-TIME:20260308T030000
TZNAME:PDT
TZOFFSETFROM:-0800
TZOFFSETTO:-0700
END:DAYLIGHT
END:VTIMEZONE
END:VCALENDAR
