BEGIN:VCALENDAR
VERSION:2.0
PRODID:-//Plone.org//NONSGML plone.app.event//EN
X-WR-TIMEZONE:US/Pacific
BEGIN:VEVENT
SUMMARY:Tacoma Branch Awards and Potluck
DTSTART;VALUE=DATE-TIME:20171208T180000
DTEND;VALUE=DATE-TIME:20171208T210000
DTSTAMP;VALUE=DATE-TIME:20260422T181750Z
UID:975abdef9b364aff97a005f43c1b71b1@localhost:6081
CREATED;VALUE=DATE-TIME:20170926T165636Z
DESCRIPTION:Celebrate outstanding accomplishments and volunteer service at
  the Tacoma Branch
LAST-MODIFIED;VALUE=DATE-TIME:20170926T165755Z
LOCATION:Tacoma Program Center
URL:https://www.mountaineers.org/locations-lodges/tacoma-program-center/ev
 ents/tacoma-branch-awards-and-potluck
END:VEVENT
BEGIN:VTIMEZONE
TZID:America/Los_Angeles
X-LIC-LOCATION:America/Los_Angeles
BEGIN:STANDARD
DTSTART;VALUE=DATE-TIME:20171105T010000
TZNAME:PST
TZOFFSETFROM:-0700
TZOFFSETTO:-0800
END:STANDARD
END:VTIMEZONE
END:VCALENDAR
