BEGIN:VCALENDAR
VERSION:2.0
PRODID:-//Plone.org//NONSGML plone.app.event//EN
X-WR-TIMEZONE:US/Pacific
BEGIN:VEVENT
SUMMARY:Tacoma Basic Top-rope clinic
DTSTART;VALUE=DATE-TIME:20260402T180000
DTEND;VALUE=DATE-TIME:20260402T210000
DTSTAMP;VALUE=DATE-TIME:20260420T020931Z
UID:cc843c7479d04255a9b7d43cca972599@localhost:6081
CREATED;VALUE=DATE-TIME:20250505T170307Z
DESCRIPTION:Tacoma Basic Glacier FT 3
LAST-MODIFIED;VALUE=DATE-TIME:20251215T170319Z
LOCATION:Tacoma Program Center
URL:https://www.mountaineers.org/locations-lodges/tacoma-program-center/ev
 ents/tacoma-basic-climbing-ft-3-3-2026-04-02
END:VEVENT
BEGIN:VTIMEZONE
TZID:America/Los_Angeles
X-LIC-LOCATION:America/Los_Angeles
BEGIN:DAYLIGHT
DTSTART;VALUE=DATE-TIME:20260308T030000
TZNAME:PDT
TZOFFSETFROM:-0800
TZOFFSETTO:-0700
END:DAYLIGHT
END:VTIMEZONE
END:VCALENDAR
