BEGIN:VCALENDAR
VERSION:2.0
PRODID:-//Plone.org//NONSGML plone.app.event//EN
X-WR-TIMEZONE:US/Pacific
BEGIN:VEVENT
SUMMARY:Tacoma Alpine Scrambling Course - Kick Off
DTSTART;VALUE=DATE-TIME:20260314T083000
DTEND;VALUE=DATE-TIME:20260314T163000
DTSTAMP;VALUE=DATE-TIME:20260420T021102Z
UID:9df7ccd15d5d4593bf7544b9fb4ea9f3@localhost:6081
CREATED;VALUE=DATE-TIME:20251030T033651Z
DESCRIPTION:The training evolution begins during this first team meeting. 
 This is a comprehensive day of training designed to set students up for su
 ccess.
LAST-MODIFIED;VALUE=DATE-TIME:20251106T173645Z
LOCATION:Tacoma Program Center
URL:https://www.mountaineers.org/locations-lodges/tacoma-program-center/ev
 ents/tacoma-alpine-scrambling-course-kick-off-1
END:VEVENT
BEGIN:VTIMEZONE
TZID:America/Los_Angeles
X-LIC-LOCATION:America/Los_Angeles
BEGIN:DAYLIGHT
DTSTART;VALUE=DATE-TIME:20260308T030000
TZNAME:PDT
TZOFFSETFROM:-0800
TZOFFSETTO:-0700
END:DAYLIGHT
END:VTIMEZONE
END:VCALENDAR
