BEGIN:VCALENDAR
VERSION:2.0
PRODID:-//Plone.org//NONSGML plone.app.event//EN
X-WR-TIMEZONE:US/Pacific
BEGIN:VEVENT
SUMMARY:South Sound Outdoor Leadership Conference
DTSTART;VALUE=DATE-TIME:20270320T080000
DTEND;VALUE=DATE-TIME:20270320T160000
DTSTAMP;VALUE=DATE-TIME:20260423T034943Z
UID:2da2510ead754aa79ab9b60ea83daa6f@localhost:6081
CREATED;VALUE=DATE-TIME:20260402T231819Z
DESCRIPTION:The South Sound Leadership Conference is a fun day of professi
 onal development dedicated to thanking\, inspiring\, and empowering The Mo
 untaineers current and aspiring volunteer leaders.
LAST-MODIFIED;VALUE=DATE-TIME:20260402T233101Z
LOCATION:Tacoma Program Center
URL:https://www.mountaineers.org/locations-lodges/tacoma-program-center/ev
 ents/south-sound-outdoor-leadership-conference
END:VEVENT
BEGIN:VTIMEZONE
TZID:America/Los_Angeles
X-LIC-LOCATION:America/Los_Angeles
BEGIN:DAYLIGHT
DTSTART;VALUE=DATE-TIME:20270314T030000
TZNAME:PDT
TZOFFSETFROM:-0800
TZOFFSETTO:-0700
END:DAYLIGHT
END:VTIMEZONE
END:VCALENDAR
