BEGIN:VCALENDAR
VERSION:2.0
PRODID:-//Plone.org//NONSGML plone.app.event//EN
X-WR-TIMEZONE:US/Pacific
BEGIN:VEVENT
SUMMARY:Progressive Climbing Education South Sound Meeting - Please RSVP
DTSTART;VALUE=DATE-TIME:20160614T183000
DTEND;VALUE=DATE-TIME:20160614T210000
DTSTAMP;VALUE=DATE-TIME:20260420T214149Z
UID:a17ab63eac0e4eecbf8809f05b26ca96@localhost:6081
CREATED;VALUE=DATE-TIME:20160519T204038Z
DESCRIPTION:A listening and information gathering session open to all Moun
 taineers interested in the future of Mountaineers climbing programs
LAST-MODIFIED;VALUE=DATE-TIME:20160607T192942Z
LOCATION:Tacoma Program Center
URL:https://www.mountaineers.org/locations-lodges/tacoma-program-center/ev
 ents/progressive-climbing-education-south-sound-meeting
END:VEVENT
BEGIN:VTIMEZONE
TZID:America/Los_Angeles
X-LIC-LOCATION:America/Los_Angeles
BEGIN:DAYLIGHT
DTSTART;VALUE=DATE-TIME:20160313T030000
TZNAME:PDT
TZOFFSETFROM:-0800
TZOFFSETTO:-0700
END:DAYLIGHT
END:VTIMEZONE
END:VCALENDAR
