BEGIN:VCALENDAR
VERSION:2.0
PRODID:-//Plone.org//NONSGML plone.app.event//EN
X-WR-TIMEZONE:US/Pacific
BEGIN:VEVENT
SUMMARY:Private Event - Somatic Experiencing
DTSTART;VALUE=DATE-TIME:20261112T150000
DTEND;VALUE=DATE-TIME:20261112T210000
DTSTAMP;VALUE=DATE-TIME:20260425T032938Z
UID:2a424466ca6b4895b07cb7df579701ee@localhost:6081
CREATED;VALUE=DATE-TIME:20260422T232905Z
DESCRIPTION:Private Event
LAST-MODIFIED;VALUE=DATE-TIME:20260422T234353Z
LOCATION:Tacoma Program Center
URL:https://www.mountaineers.org/locations-lodges/tacoma-program-center/ev
 ents/private-event-somatic-experiencing
END:VEVENT
BEGIN:VTIMEZONE
TZID:America/Los_Angeles
X-LIC-LOCATION:America/Los_Angeles
BEGIN:STANDARD
DTSTART;VALUE=DATE-TIME:20261101T010000
TZNAME:PST
TZOFFSETFROM:-0700
TZOFFSETTO:-0800
END:STANDARD
END:VTIMEZONE
END:VCALENDAR
