BEGIN:VCALENDAR
VERSION:2.0
PRODID:-//Plone.org//NONSGML plone.app.event//EN
X-WR-TIMEZONE:US/Pacific
BEGIN:VEVENT
SUMMARY:Private Event - Somatic Experiencing
DTSTART;VALUE=DATE-TIME:20270527T150000
DTEND;VALUE=DATE-TIME:20270527T210000
DTSTAMP;VALUE=DATE-TIME:20260423T034241Z
UID:cc676b2294c5473f923b612e9526d6ac@localhost:6081
CREATED;VALUE=DATE-TIME:20260422T233040Z
DESCRIPTION:Private Event
LAST-MODIFIED;VALUE=DATE-TIME:20260422T234353Z
LOCATION:Tacoma Program Center
URL:https://www.mountaineers.org/locations-lodges/tacoma-program-center/ev
 ents/private-event-somatic-experiencing-2027-05-27
END:VEVENT
BEGIN:VTIMEZONE
TZID:America/Los_Angeles
X-LIC-LOCATION:America/Los_Angeles
BEGIN:DAYLIGHT
DTSTART;VALUE=DATE-TIME:20270314T030000
TZNAME:PDT
TZOFFSETFROM:-0800
TZOFFSETTO:-0700
END:DAYLIGHT
END:VTIMEZONE
END:VCALENDAR
