BEGIN:VCALENDAR
VERSION:2.0
PRODID:-//Plone.org//NONSGML plone.app.event//EN
X-WR-TIMEZONE:US/Pacific
BEGIN:VEVENT
SUMMARY:Private Event - Kristi Lea/Kristina Scott
DTSTART;VALUE=DATE-TIME:20260613T090000
DTEND;VALUE=DATE-TIME:20260613T160000
DTSTAMP;VALUE=DATE-TIME:20260420T215232Z
UID:b221e4cbe62f450dbaea5124c6dc8551@localhost:6081
CREATED;VALUE=DATE-TIME:20260420T220800Z
DESCRIPTION:Private Event
LAST-MODIFIED;VALUE=DATE-TIME:20260420T220817Z
LOCATION:Tacoma Program Center
URL:https://www.mountaineers.org/locations-lodges/tacoma-program-center/ev
 ents/private-event-kristi-lea-kristina-scott
END:VEVENT
BEGIN:VTIMEZONE
TZID:America/Los_Angeles
X-LIC-LOCATION:America/Los_Angeles
BEGIN:DAYLIGHT
DTSTART;VALUE=DATE-TIME:20260308T030000
TZNAME:PDT
TZOFFSETFROM:-0800
TZOFFSETTO:-0700
END:DAYLIGHT
END:VTIMEZONE
END:VCALENDAR
