BEGIN:VCALENDAR
VERSION:2.0
PRODID:-//Plone.org//NONSGML plone.app.event//EN
X-WR-TIMEZONE:US/Pacific
BEGIN:VEVENT
SUMMARY:Private Event - Communities for a Healthy Bay
DTSTART;VALUE=DATE-TIME:20260502T100000
DTEND;VALUE=DATE-TIME:20260502T120000
DTSTAMP;VALUE=DATE-TIME:20260420T105129Z
UID:654c15d86cdf4cf3947174399249c185@localhost:6081
CREATED;VALUE=DATE-TIME:20260330T180403Z
DESCRIPTION:Private Event
LAST-MODIFIED;VALUE=DATE-TIME:20260330T180444Z
LOCATION:Tacoma Program Center
URL:https://www.mountaineers.org/locations-lodges/tacoma-program-center/ev
 ents/private-event-communities-for-a-healthy-bay
END:VEVENT
BEGIN:VTIMEZONE
TZID:America/Los_Angeles
X-LIC-LOCATION:America/Los_Angeles
BEGIN:DAYLIGHT
DTSTART;VALUE=DATE-TIME:20260308T030000
TZNAME:PDT
TZOFFSETFROM:-0800
TZOFFSETTO:-0700
END:DAYLIGHT
END:VTIMEZONE
END:VCALENDAR
