BEGIN:VCALENDAR
VERSION:2.0
PRODID:-//Plone.org//NONSGML plone.app.event//EN
X-WR-TIMEZONE:US/Pacific
BEGIN:VEVENT
SUMMARY:Olympia Basic Alpine Climbing Rock 1 FT
DTSTART;VALUE=DATE-TIME:20260322T080000
DTEND;VALUE=DATE-TIME:20260322T160000
DTSTAMP;VALUE=DATE-TIME:20260420T020958Z
UID:2ef3c623034649878e4b0a47e6faec59@localhost:6081
CREATED;VALUE=DATE-TIME:20250916T195643Z
DESCRIPTION:TPC reserved for Rock Fundamentals Field Trip for Olympia Basi
 c Climbing Course. Please register for the event through the course page.
LAST-MODIFIED;VALUE=DATE-TIME:20250930T034351Z
LOCATION:Tacoma Program Center
URL:https://www.mountaineers.org/locations-lodges/tacoma-program-center/ev
 ents/olympia-basic-climbing-rock-ft-2026-03-22
END:VEVENT
BEGIN:VTIMEZONE
TZID:America/Los_Angeles
X-LIC-LOCATION:America/Los_Angeles
BEGIN:DAYLIGHT
DTSTART;VALUE=DATE-TIME:20260308T030000
TZNAME:PDT
TZOFFSETFROM:-0800
TZOFFSETTO:-0700
END:DAYLIGHT
END:VTIMEZONE
END:VCALENDAR
