BEGIN:VCALENDAR
VERSION:2.0
PRODID:-//Plone.org//NONSGML plone.app.event//EN
X-WR-TIMEZONE:US/Pacific
BEGIN:VEVENT
SUMMARY:Oly MAC
DTSTART;VALUE=DATE-TIME:20260326T180000
DTEND;VALUE=DATE-TIME:20260326T200000
DTSTAMP;VALUE=DATE-TIME:20260420T020911Z
UID:aae4cd27121a494bae7f0d645acd6e99@localhost:6081
CREATED;VALUE=DATE-TIME:20260310T173204Z
DESCRIPTION:Mac Skills Night
LAST-MODIFIED;VALUE=DATE-TIME:20260311T191403Z
LOCATION:Tacoma Program Center
URL:https://www.mountaineers.org/locations-lodges/tacoma-program-center/ev
 ents/oly-mac
END:VEVENT
BEGIN:VTIMEZONE
TZID:America/Los_Angeles
X-LIC-LOCATION:America/Los_Angeles
BEGIN:DAYLIGHT
DTSTART;VALUE=DATE-TIME:20260308T030000
TZNAME:PDT
TZOFFSETFROM:-0800
TZOFFSETTO:-0700
END:DAYLIGHT
END:VTIMEZONE
END:VCALENDAR
