BEGIN:VCALENDAR
VERSION:2.0
PRODID:-//Plone.org//NONSGML plone.app.event//EN
X-WR-TIMEZONE:US/Pacific
BEGIN:VEVENT
SUMMARY:Solar Celebration! Tacoma Program Center Net-Zero Open House - Jul
 y 12\, 2024
DTSTART;VALUE=DATE-TIME:20240712T163000
DTEND;VALUE=DATE-TIME:20240712T190000
DTSTAMP;VALUE=DATE-TIME:20260420T020931Z
UID:f444c8d672d343a5a1944bd30bf33b20@localhost:6081
CREATED;VALUE=DATE-TIME:20240507T174722Z
DESCRIPTION:Mountaineers and partners celebration of the achievement of TP
 C Net-Zero Energy Project
LAST-MODIFIED;VALUE=DATE-TIME:20240712T193705Z
LOCATION:Tacoma Program Center
URL:https://www.mountaineers.org/locations-lodges/tacoma-program-center/ev
 ents/net-zero-celebration-july-12-2024
END:VEVENT
BEGIN:VTIMEZONE
TZID:America/Los_Angeles
X-LIC-LOCATION:America/Los_Angeles
BEGIN:DAYLIGHT
DTSTART;VALUE=DATE-TIME:20240310T030000
TZNAME:PDT
TZOFFSETFROM:-0800
TZOFFSETTO:-0700
END:DAYLIGHT
END:VTIMEZONE
END:VCALENDAR
