BEGIN:VCALENDAR
VERSION:2.0
PRODID:-//Plone.org//NONSGML plone.app.event//EN
X-WR-TIMEZONE:US/Pacific
BEGIN:VEVENT
SUMMARY:Fall Color Hikes: A Talk with Author\, Photographer\, and Backpack
 er Tami Asars
DTSTART;VALUE=DATE-TIME:20230926T190000
DTEND;VALUE=DATE-TIME:20230926T203000
DTSTAMP;VALUE=DATE-TIME:20260421T033257Z
UID:03d7ca41f4e6459b8151eec211e68f63@localhost:6081
CREATED;VALUE=DATE-TIME:20230504T182951Z
DESCRIPTION:Tami Asars will talk about her book 'Fall Color Hikes: Washing
 ton' at the Mountaineers Tacoma Program Center\, suggesting destinations a
 cross our region\, and she will have books on hand to sign and sell to att
 endees.
LAST-MODIFIED;VALUE=DATE-TIME:20230710T202925Z
LOCATION:Tacoma Program Center
URL:https://www.mountaineers.org/locations-lodges/tacoma-program-center/ev
 ents/fall-color-hikes-a-talk-with-author-photographer-and-backpacker-tami-
 asars
END:VEVENT
BEGIN:VTIMEZONE
TZID:America/Los_Angeles
X-LIC-LOCATION:America/Los_Angeles
BEGIN:DAYLIGHT
DTSTART;VALUE=DATE-TIME:20230312T030000
TZNAME:PDT
TZOFFSETFROM:-0800
TZOFFSETTO:-0700
END:DAYLIGHT
END:VTIMEZONE
END:VCALENDAR
