BEGIN:VCALENDAR
VERSION:2.0
PRODID:-//Plone.org//NONSGML plone.app.event//EN
X-WR-TIMEZONE:US/Pacific
BEGIN:VEVENT
SUMMARY:Camp Staff Training
DTSTART;VALUE=DATE-TIME:20250618T090000
DTEND;VALUE=DATE-TIME:20250618T170000
DTSTAMP;VALUE=DATE-TIME:20260421T014441Z
UID:90b5c5ed77b74889b2ace44fb7b6cda0@localhost:6081
CREATED;VALUE=DATE-TIME:20250128T181305Z
DESCRIPTION:Summer Camp Staff will be using the program center for trainin
 g
LAST-MODIFIED;VALUE=DATE-TIME:20250128T181552Z
LOCATION:Tacoma Program Center
URL:https://www.mountaineers.org/locations-lodges/tacoma-program-center/ev
 ents/camp-staff-training-6-2025-06-18
END:VEVENT
BEGIN:VTIMEZONE
TZID:America/Los_Angeles
X-LIC-LOCATION:America/Los_Angeles
BEGIN:DAYLIGHT
DTSTART;VALUE=DATE-TIME:20250309T030000
TZNAME:PDT
TZOFFSETFROM:-0800
TZOFFSETTO:-0700
END:DAYLIGHT
END:VTIMEZONE
END:VCALENDAR
