BEGIN:VCALENDAR
VERSION:2.0
PRODID:-//Plone.org//NONSGML plone.app.event//EN
X-WR-TIMEZONE:US/Pacific
BEGIN:VEVENT
SUMMARY:Backcountry Film Festival - Great Hall
DTSTART;VALUE=DATE-TIME:20160107T183000
DTEND;VALUE=DATE-TIME:20160107T210000
DTSTAMP;VALUE=DATE-TIME:20260420T082310Z
UID:cee63237e72845b09c2c422ee630d210@localhost:6081
CREATED;VALUE=DATE-TIME:20151028T164204Z
DESCRIPTION:Join us for a fun night of viewing several short films focused
  on human-powered\, winter backcountry adventure!
LAST-MODIFIED;VALUE=DATE-TIME:20161130T161937Z
LOCATION:Tacoma Program Center
URL:https://www.mountaineers.org/locations-lodges/tacoma-program-center/ev
 ents/backcountry-film-festival-great-hall
END:VEVENT
BEGIN:VTIMEZONE
TZID:America/Los_Angeles
X-LIC-LOCATION:America/Los_Angeles
BEGIN:STANDARD
DTSTART;VALUE=DATE-TIME:20151101T010000
TZNAME:PST
TZOFFSETFROM:-0700
TZOFFSETTO:-0800
END:STANDARD
END:VTIMEZONE
END:VCALENDAR
