BEGIN:VCALENDAR
VERSION:2.0
PRODID:-//Plone.org//NONSGML plone.app.event//EN
X-WR-TIMEZONE:US/Pacific
BEGIN:VEVENT
SUMMARY:Tacoma Pathfinders & Explorers - Kick-Off Trip - Exit 38
DTSTART;VALUE=DATE:20230923
DTEND;VALUE=DATE:20230924
DTSTAMP;VALUE=DATE-TIME:20260420T114053Z
UID:4c51be0ce16e4515882028d3e020917e
CATEGORIES:Youth
LOCATION:Exit 38
URL:https://www.mountaineers.org/locations-lodges/tacoma-branch/committees
 /tacoma-youth-outreach-committee/seminars-clinics/tacoma-pathfinders-explo
 rers-kick-off-trip-exit-38
END:VEVENT
END:VCALENDAR
