BEGIN:VCALENDAR
VERSION:2.0
PRODID:-//Plone.org//NONSGML plone.app.event//EN
X-WR-TIMEZONE:US/Pacific
BEGIN:VEVENT
SUMMARY:Tacoma Pathfinders & Explorers - Kick-Off Trip - Exit 38
DTSTART;VALUE=DATE:20240921
DTEND;VALUE=DATE:20240922
DTSTAMP;VALUE=DATE-TIME:20260420T114053Z
UID:c84f6e0a518e4377905d55f15e3730b6
CATEGORIES:Family,Youth
DESCRIPTION:Tacoma Pathfinders & Explorers Kick-off Event
LOCATION:Exit 38
URL:https://www.mountaineers.org/locations-lodges/tacoma-branch/committees
 /tacoma-youth-outreach-committee/seminars-clinics/tacoma-pathfinders-explo
 rers-kick-off-trip-exit-38-1
END:VEVENT
END:VCALENDAR
