BEGIN:VCALENDAR
VERSION:2.0
PRODID:-//Plone.org//NONSGML plone.app.event//EN
X-WR-TIMEZONE:US/Pacific
BEGIN:VEVENT
SUMMARY:Tacoma MAC - Kick-Off Trip - Vantage (Frenchman Coulee)
DTSTART;VALUE=DATE:20230930
DTEND;VALUE=DATE:20231001
DTSTAMP;VALUE=DATE-TIME:20260420T114152Z
UID:ecc12cba574741adb1adda71b3e0bc1b
CATEGORIES:Youth
DESCRIPTION:This trip is open to current and prospective Tacoma MAC member
 s. Prospective members have the chance to attend this trip for free before
  deciding whether to commit to the MAC program. MAC is for teens age 14-18
 .
LOCATION:Vantage (Frenchman Coulee)
URL:https://www.mountaineers.org/locations-lodges/tacoma-branch/committees
 /tacoma-youth-outreach-committee/seminars-clinics/tacoma-mac-kick-off-trip
 -vantage-frenchman-coulee
END:VEVENT
END:VCALENDAR
