BEGIN:VCALENDAR
VERSION:2.0
PRODID:-//Plone.org//NONSGML plone.app.event//EN
X-WR-TIMEZONE:US/Pacific
BEGIN:VEVENT
SUMMARY:Tacoma MAC - Kick-Off Trip - Leavenworth
DTSTART;VALUE=DATE:20210925
DTEND;VALUE=DATE:20210926
DTSTAMP;VALUE=DATE-TIME:20260420T114153Z
UID:346c613d56884e2d951a083e3bd1606c
CATEGORIES:Youth
DESCRIPTION:Teens interested in the Tacoma MAC program should join us for 
 this free trip! Explore rock climbing\, hiking\, and camping in the beauti
 ful Icicle Canyon. Members may decide whether to join MAC after this trip.
LOCATION:Leavenworth
URL:https://www.mountaineers.org/locations-lodges/tacoma-branch/committees
 /tacoma-youth-outreach-committee/seminars-clinics/tacoma-mac-kick-off-trip
 -leavenworth
END:VEVENT
END:VCALENDAR
