BEGIN:VCALENDAR
VERSION:2.0
PRODID:-//Plone.org//NONSGML plone.app.event//EN
X-WR-TIMEZONE:US/Pacific
BEGIN:VEVENT
SUMMARY:Tacoma MAC - Kick-Off Trip - Leavenworth
DTSTART;VALUE=DATE:20250927
DTEND;VALUE=DATE:20250928
DTSTAMP;VALUE=DATE-TIME:20260420T081557Z
UID:79d99d0fe0f94ed0a3d77fbb1dfb0fb7
CATEGORIES:Youth
LOCATION:Leavenworth
URL:https://www.mountaineers.org/locations-lodges/tacoma-branch/committees
 /tacoma-youth-outreach-committee/seminars-clinics/tacoma-mac-kick-off-trip
 -leavenworth-3
END:VEVENT
END:VCALENDAR
