BEGIN:VCALENDAR
VERSION:2.0
PRODID:-//Plone.org//NONSGML plone.app.event//EN
X-WR-TIMEZONE:US/Pacific
BEGIN:VEVENT
SUMMARY:Tacoma MAC - Kick-Off Trip - Leavenworth
DTSTART;VALUE=DATE:20220917
DTEND;VALUE=DATE:20220918
DTSTAMP;VALUE=DATE-TIME:20260420T114153Z
UID:71351c3c847243d6ab4276021e07cc98
CATEGORIES:Climbing,Youth
DESCRIPTION:This is the kick-off trip for the new season of Tacoma MAC! Re
 turning and prospective members are welcome to join us to try out the prog
 ram. This trip is free and open to the public\, and is for teens age 14-18
 . Attendees must register on the roster and have a waiver on file.
LOCATION:Leavenworth
URL:https://www.mountaineers.org/locations-lodges/tacoma-branch/committees
 /tacoma-youth-outreach-committee/seminars-clinics/tacoma-mac-kick-off-trip
 -leavenworth-1
END:VEVENT
END:VCALENDAR
