BEGIN:VCALENDAR
VERSION:2.0
PRODID:-//Plone.org//NONSGML plone.app.event//EN
X-WR-TIMEZONE:US/Pacific
BEGIN:VEVENT
SUMMARY:Tacoma Pathfinders & Explorers Joint Activity - Youth Trip
DTSTART;VALUE=DATE:20260717
DTEND;VALUE=DATE:20260718
DTSTAMP;VALUE=DATE-TIME:20260420T132814Z
UID:a318f6fb0b434e2b8ce11993056d726c
CATEGORIES:Youth
DESCRIPTION:Outdoor activity for Tacoma Pathfinders & Explorers programs
LOCATION:Youth Trip
URL:https://www.mountaineers.org/locations-lodges/tacoma-branch/committees
 /tacoma-youth-outreach-committee/course-templates/pioneers-tacoma/activiti
 es/tacoma-pathfinders-explorers-joint-activity-youth-trip-6
END:VEVENT
END:VCALENDAR
