BEGIN:VCALENDAR
VERSION:2.0
PRODID:-//Plone.org//NONSGML plone.app.event//EN
X-WR-TIMEZONE:US/Pacific
BEGIN:VEVENT
SUMMARY:Tacoma MAC Snow Skills Trip - Paradise
DTSTART;VALUE=DATE:20241215
DTEND;VALUE=DATE:20241216
DTSTAMP;VALUE=DATE-TIME:20260420T114605Z
UID:dd5b769c84114a45b3960dc1ef57194d
CATEGORIES:Youth
DESCRIPTION:Skills covered include ice arrest\, snow travel\, roped glacie
 r travel\, and crevasse rescue
LOCATION:Paradise
URL:https://www.mountaineers.org/locations-lodges/tacoma-branch/committees
 /tacoma-youth-outreach-committee/course-templates/mountaineers-adventure-c
 lub-tacoma-tacoma/activities/tacoma-mac-snow-skills-trip-paradise
END:VEVENT
END:VCALENDAR
