BEGIN:VCALENDAR
VERSION:2.0
PRODID:-//Plone.org//NONSGML plone.app.event//EN
X-WR-TIMEZONE:US/Pacific
BEGIN:VEVENT
SUMMARY:Tacoma MAC Snow Skills Trip - Paradise
DTSTART;VALUE=DATE:20260207
DTEND;VALUE=DATE:20260208
DTSTAMP;VALUE=DATE-TIME:20260420T114604Z
UID:81743df05ace4a3e8be1d7b5718c79cf
CATEGORIES:Climbing
DESCRIPTION:MAC will head to the mountains to practice snow skills
LOCATION:Paradise
URL:https://www.mountaineers.org/locations-lodges/tacoma-branch/committees
 /tacoma-youth-outreach-committee/course-templates/mountaineers-adventure-c
 lub-tacoma-tacoma/activities/tacoma-mac-snow-skills-trip-paradise-1
END:VEVENT
END:VCALENDAR
