BEGIN:VCALENDAR
VERSION:2.0
PRODID:-//Plone.org//NONSGML plone.app.event//EN
X-WR-TIMEZONE:US/Pacific
BEGIN:VEVENT
SUMMARY:Tacoma MAC Snow Skills Trip - Paradise
DTSTART;VALUE=DATE:20221210
DTEND;VALUE=DATE:20221211
DTSTAMP;VALUE=DATE-TIME:20260420T114320Z
UID:fe2528f8dc114bce878084f40ae6d33d
CATEGORIES:Youth
DESCRIPTION:MAC will head to the mountains to practice snow skills
LOCATION:Paradise
URL:https://www.mountaineers.org/locations-lodges/tacoma-branch/committees
 /tacoma-youth-outreach-committee/course-templates/mountaineers-adventure-c
 lub-tacoma-tacoma/activities/tac-mac-snow-skills-trip-paradise-4
END:VEVENT
END:VCALENDAR
