BEGIN:VCALENDAR
VERSION:2.0
PRODID:-//Plone.org//NONSGML plone.app.event//EN
X-WR-TIMEZONE:US/Pacific
BEGIN:VEVENT
SUMMARY:Tacoma MAC Snow Skills Trip - Paradise
DTSTART;VALUE=DATE:20211211
DTEND;VALUE=DATE:20211212
DTSTAMP;VALUE=DATE-TIME:20260420T114320Z
UID:596349c533674be280b85d382ed1d35f
CATEGORIES:Youth
DESCRIPTION:Snow and glacier travel skills\, including ice ax use\, glissa
 ding and self arrest\, walking in a rope team\, building snow anchors\, an
 d crevasse rescue
LOCATION:Paradise
URL:https://www.mountaineers.org/locations-lodges/tacoma-branch/committees
 /tacoma-youth-outreach-committee/course-templates/mountaineers-adventure-c
 lub-tacoma-tacoma/activities/tac-mac-snow-skills-trip-paradise-3
END:VEVENT
END:VCALENDAR
