BEGIN:VCALENDAR
VERSION:2.0
PRODID:-//Plone.org//NONSGML plone.app.event//EN
X-WR-TIMEZONE:US/Pacific
BEGIN:VEVENT
SUMMARY:Tacoma MAC Snow Skills Trip - Mazama Ridge (Mount Rainier)
DTSTART;VALUE=DATE:20240203
DTEND;VALUE=DATE:20240204
DTSTAMP;VALUE=DATE-TIME:20260420T114429Z
UID:4b59c4ab2fdf42ff91d037f5621e9a29
CATEGORIES:Youth
DESCRIPTION:Make-up day and/or extra practice for ice ax arrest\, glacier 
 travel\, crevasse rescue.
LOCATION:Mazama Ridge (Mount Rainier)
URL:https://www.mountaineers.org/locations-lodges/tacoma-branch/committees
 /tacoma-youth-outreach-committee/course-templates/mountaineers-adventure-c
 lub-tacoma-tacoma/activities/tac-mac-snow-skills-trip-mazama-ridge-mount-r
 ainier
END:VEVENT
END:VCALENDAR
