BEGIN:VCALENDAR
VERSION:2.0
PRODID:-//Plone.org//NONSGML plone.app.event//EN
X-WR-TIMEZONE:US/Pacific
BEGIN:VEVENT
SUMMARY:Tacoma MAC Snow Skills Trip - Bullion Basin
DTSTART;VALUE=DATE:20231210
DTEND;VALUE=DATE:20231211
DTSTAMP;VALUE=DATE-TIME:20260420T114444Z
UID:33ed490e7f8a4dea9bdd622fec11dc5b
CATEGORIES:Youth
DESCRIPTION:MAC will head to the mountains to practice snow skills
LOCATION:Bullion Basin
URL:https://www.mountaineers.org/locations-lodges/tacoma-branch/committees
 /tacoma-youth-outreach-committee/course-templates/mountaineers-adventure-c
 lub-tacoma-tacoma/activities/tac-mac-snow-skills-trip-bullion-basin
END:VEVENT
END:VCALENDAR
