BEGIN:VCALENDAR
VERSION:2.0
PRODID:-//Plone.org//NONSGML plone.app.event//EN
X-WR-TIMEZONE:US/Pacific
BEGIN:VEVENT
SUMMARY:TAC MAC Snow Camp - Paradise
DTSTART;VALUE=DATE:20220129
DTEND;VALUE=DATE:20220130
DTSTAMP;VALUE=DATE-TIME:20260420T114253Z
UID:672d1ef58c714f1e87906f7b42a53d5e
CATEGORIES:Youth
DESCRIPTION:A winter camping experience in the snow!
LOCATION:Paradise
URL:https://www.mountaineers.org/locations-lodges/tacoma-branch/committees
 /tacoma-youth-outreach-committee/course-templates/mountaineers-adventure-c
 lub-tacoma-tacoma/activities/tac-mac-snow-camp-paradise
END:VEVENT
END:VCALENDAR
