BEGIN:VCALENDAR
VERSION:2.0
PRODID:-//Plone.org//NONSGML plone.app.event//EN
X-WR-TIMEZONE:US/Pacific
BEGIN:VEVENT
SUMMARY:TAC MAC Snow Camp - Paradise
DTSTART;VALUE=DATE:20260307
DTEND;VALUE=DATE:20260308
DTSTAMP;VALUE=DATE-TIME:20260420T114222Z
UID:629ca8542cd94fe8a067213f8cca58da
CATEGORIES:Youth
DESCRIPTION:Winter camping and snow/glacier skills practice
LOCATION:Paradise
URL:https://www.mountaineers.org/locations-lodges/tacoma-branch/committees
 /tacoma-youth-outreach-committee/course-templates/mountaineers-adventure-c
 lub-tacoma-tacoma/activities/tac-mac-snow-camp-paradise-3
END:VEVENT
END:VCALENDAR
