BEGIN:VCALENDAR
VERSION:2.0
PRODID:-//Plone.org//NONSGML plone.app.event//EN
X-WR-TIMEZONE:US/Pacific
BEGIN:VEVENT
SUMMARY:TAC MAC Snow Camp - Paradise
DTSTART;VALUE=DATE:20250222
DTEND;VALUE=DATE:20250223
DTSTAMP;VALUE=DATE-TIME:20260420T114223Z
UID:21082a8527d24455b4c5474c06124cab
CATEGORIES:Youth
DESCRIPTION:A winter camping experience in the snow!
LOCATION:Paradise
URL:https://www.mountaineers.org/locations-lodges/tacoma-branch/committees
 /tacoma-youth-outreach-committee/course-templates/mountaineers-adventure-c
 lub-tacoma-tacoma/activities/tac-mac-snow-camp-paradise-2
END:VEVENT
END:VCALENDAR
