BEGIN:VCALENDAR
VERSION:2.0
PRODID:-//Plone.org//NONSGML plone.app.event//EN
X-WR-TIMEZONE:US/Pacific
BEGIN:VEVENT
SUMMARY:TAC MAC Snow Camp - Paradise
DTSTART;VALUE=DATE:20230128
DTEND;VALUE=DATE:20230129
DTSTAMP;VALUE=DATE-TIME:20260420T114253Z
UID:7a83160cabdd4596b185cc9a07f42ecd
CATEGORIES:Youth
DESCRIPTION:Winter camp with snow and glacier skills practice.
LOCATION:Paradise
URL:https://www.mountaineers.org/locations-lodges/tacoma-branch/committees
 /tacoma-youth-outreach-committee/course-templates/mountaineers-adventure-c
 lub-tacoma-tacoma/activities/tac-mac-snow-camp-paradise-1
END:VEVENT
END:VCALENDAR
