BEGIN:VCALENDAR
VERSION:2.0
PRODID:-//Plone.org//NONSGML plone.app.event//EN
X-WR-TIMEZONE:US/Pacific
BEGIN:VEVENT
SUMMARY:TAC MAC Snow Camp - Mazama Ridge
DTSTART;VALUE=DATE:20240224
DTEND;VALUE=DATE:20240225
DTSTAMP;VALUE=DATE-TIME:20260420T114315Z
UID:153cfef200714950b14c14828885f749
CATEGORIES:Youth
DESCRIPTION:A winter camping experience in the snow!
LOCATION:Mazama Ridge
URL:https://www.mountaineers.org/locations-lodges/tacoma-branch/committees
 /tacoma-youth-outreach-committee/course-templates/mountaineers-adventure-c
 lub-tacoma-tacoma/activities/tac-mac-snow-camp-mazama-ridge
END:VEVENT
END:VCALENDAR
