BEGIN:VCALENDAR
VERSION:2.0
PRODID:-//Plone.org//NONSGML plone.app.event//EN
X-WR-TIMEZONE:US/Pacific
BEGIN:VEVENT
SUMMARY:TAC MAC Skills Night - Mountaineers Tacoma Program Center
DTSTART;VALUE=DATE:20250702
DTEND;VALUE=DATE:20250703
DTSTAMP;VALUE=DATE-TIME:20260420T114520Z
UID:e9588ec6e6ac4fe19821a221d05f8af4
CATEGORIES:Youth
DESCRIPTION:MAC Meeting and Skills Practice
LOCATION:Mountaineers Tacoma Program Center
URL:https://www.mountaineers.org/locations-lodges/tacoma-branch/committees
 /tacoma-youth-outreach-committee/course-templates/mountaineers-adventure-c
 lub-tacoma-tacoma/activities/tac-mac-skills-night-mountaineers-tacoma-prog
 ram-center-20-2025-07-02
END:VEVENT
END:VCALENDAR
