BEGIN:VCALENDAR
VERSION:2.0
PRODID:-//Plone.org//NONSGML plone.app.event//EN
X-WR-TIMEZONE:US/Pacific
BEGIN:VEVENT
SUMMARY:TAC MAC Skills Night - Mountaineers Tacoma Program Center
DTSTART;VALUE=DATE:20250205
DTEND;VALUE=DATE:20250206
DTSTAMP;VALUE=DATE-TIME:20260420T114604Z
UID:649cf6d466a24d7fa2c482074582f163
CATEGORIES:Youth
DESCRIPTION:MAC Meeting and Skills Practice
LOCATION:Mountaineers Tacoma Program Center
URL:https://www.mountaineers.org/locations-lodges/tacoma-branch/committees
 /tacoma-youth-outreach-committee/course-templates/mountaineers-adventure-c
 lub-tacoma-tacoma/activities/tac-mac-skills-night-mountaineers-tacoma-prog
 ram-center-20-2025-02-05
END:VEVENT
END:VCALENDAR
