BEGIN:VCALENDAR
VERSION:2.0
PRODID:-//Plone.org//NONSGML plone.app.event//EN
X-WR-TIMEZONE:US/Pacific
BEGIN:VEVENT
SUMMARY:TAC MAC Skills Night - Mountaineers Tacoma Program Center
DTSTART;VALUE=DATE:20241030
DTEND;VALUE=DATE:20241031
DTSTAMP;VALUE=DATE-TIME:20260420T114607Z
UID:3a21f6751a944e30b14d56d73b9b72e5
CATEGORIES:Youth
DESCRIPTION:MAC Meeting and Skills Practice
LOCATION:Mountaineers Tacoma Program Center
URL:https://www.mountaineers.org/locations-lodges/tacoma-branch/committees
 /tacoma-youth-outreach-committee/course-templates/mountaineers-adventure-c
 lub-tacoma-tacoma/activities/tac-mac-skills-night-mountaineers-tacoma-prog
 ram-center-20-2024-10-30
END:VEVENT
END:VCALENDAR
