BEGIN:VCALENDAR
VERSION:2.0
PRODID:-//Plone.org//NONSGML plone.app.event//EN
X-WR-TIMEZONE:US/Pacific
BEGIN:VEVENT
SUMMARY:TAC MAC Skills Night - Mountaineers Tacoma Program Center
DTSTART;VALUE=DATE:20231206
DTEND;VALUE=DATE:20231207
DTSTAMP;VALUE=DATE-TIME:20260420T114642Z
UID:bcdd3b5e72c3410f83b9bf8fd53926ac
CATEGORIES:Youth
DESCRIPTION:MAC Meeting and Skills Practice
LOCATION:Mountaineers Tacoma Program Center
URL:https://www.mountaineers.org/locations-lodges/tacoma-branch/committees
 /tacoma-youth-outreach-committee/course-templates/mountaineers-adventure-c
 lub-tacoma-tacoma/activities/tac-mac-skills-night-mountaineers-tacoma-prog
 ram-center-19-2023-12-06
END:VEVENT
END:VCALENDAR
