BEGIN:VCALENDAR
VERSION:2.0
PRODID:-//Plone.org//NONSGML plone.app.event//EN
X-WR-TIMEZONE:US/Pacific
BEGIN:VEVENT
SUMMARY:TAC MAC Skills Night - Mountaineers Tacoma Program Center
DTSTART;VALUE=DATE:20220504
DTEND;VALUE=DATE:20220505
DTSTAMP;VALUE=DATE-TIME:20260420T114427Z
UID:9e19581c183c41ee807f6f932e3ed64e
CATEGORIES:Youth
DESCRIPTION:MAC Meeting and Skills Practice
LOCATION:Mountaineers Tacoma Program Center
URL:https://www.mountaineers.org/locations-lodges/tacoma-branch/committees
 /tacoma-youth-outreach-committee/course-templates/mountaineers-adventure-c
 lub-tacoma-tacoma/activities/tac-mac-skills-night-mountaineers-tacoma-prog
 ram-center-10
END:VEVENT
END:VCALENDAR
