BEGIN:VCALENDAR
VERSION:2.0
PRODID:-//Plone.org//NONSGML plone.app.event//EN
X-WR-TIMEZONE:US/Pacific
BEGIN:VEVENT
SUMMARY:TAC MAC Scramble - Youth Trip
DTSTART;VALUE=DATE:20250208
DTEND;VALUE=DATE:20250209
DTSTAMP;VALUE=DATE-TIME:20260420T114314Z
UID:8c2e21d5bbe24d63bcb5f764a13a6d4b
CATEGORIES:Youth
DESCRIPTION:Snow scramble\, destination TBD
LOCATION:Youth Trip
URL:https://www.mountaineers.org/locations-lodges/tacoma-branch/committees
 /tacoma-youth-outreach-committee/course-templates/mountaineers-adventure-c
 lub-tacoma-tacoma/activities/tac-mac-scramble-youth-trip
END:VEVENT
END:VCALENDAR
