BEGIN:VCALENDAR
VERSION:2.0
PRODID:-//Plone.org//NONSGML plone.app.event//EN
X-WR-TIMEZONE:US/Pacific
BEGIN:VEVENT
SUMMARY:TAC MAC Scramble - Tumtum Peak
DTSTART;VALUE=DATE:20231119
DTEND;VALUE=DATE:20231120
DTSTAMP;VALUE=DATE-TIME:20260420T114322Z
UID:58aefa732938466b97697be25a16d4f6
CATEGORIES:Scrambling
DESCRIPTION:Scrambling outing for MAC Tacoma students. Wahpenayo is first 
 priority\, but if we have time we'll try to snag Eagle or Chutla
LOCATION:Tumtum Peak
URL:https://www.mountaineers.org/locations-lodges/tacoma-branch/committees
 /tacoma-youth-outreach-committee/course-templates/mountaineers-adventure-c
 lub-tacoma-tacoma/activities/tac-mac-scramble-tumtum-peak
END:VEVENT
END:VCALENDAR
