BEGIN:VCALENDAR
VERSION:2.0
PRODID:-//Plone.org//NONSGML plone.app.event//EN
X-WR-TIMEZONE:US/Pacific
BEGIN:VEVENT
SUMMARY:TAC MAC Scramble - Surprise Mountain
DTSTART;VALUE=DATE:20251109
DTEND;VALUE=DATE:20251110
DTSTAMP;VALUE=DATE-TIME:20260420T114222Z
UID:79a07dd9ad1a4ea7a5b4219fdbd88af0
CATEGORIES:Scrambling
DESCRIPTION:MAC scramble to our namesake peak
LOCATION:Surprise Mountain
URL:https://www.mountaineers.org/locations-lodges/tacoma-branch/committees
 /tacoma-youth-outreach-committee/course-templates/mountaineers-adventure-c
 lub-tacoma-tacoma/activities/tac-mac-scramble-surprise-mountain
END:VEVENT
END:VCALENDAR
